BEGIN:VCALENDAR
VERSION:2.0
PRODID:-//Profesora Delgadillo - ECPv6.15.20//NONSGML v1.0//EN
CALSCALE:GREGORIAN
METHOD:PUBLISH
X-WR-CALNAME:Profesora Delgadillo
X-ORIGINAL-URL:https://profesoradelgadillo.com
X-WR-CALDESC:Events for Profesora Delgadillo
REFRESH-INTERVAL;VALUE=DURATION:PT1H
X-Robots-Tag:noindex
X-PUBLISHED-TTL:PT1H
BEGIN:VTIMEZONE
TZID:UTC
BEGIN:STANDARD
TZOFFSETFROM:+0000
TZOFFSETTO:+0000
TZNAME:UTC
DTSTART:20200101T000000
END:STANDARD
END:VTIMEZONE
BEGIN:VEVENT
DTSTART;VALUE=DATE:20220929
DTEND;VALUE=DATE:20221002
DTSTAMP:20260423T073533
CREATED:20220504T201243Z
LAST-MODIFIED:20220504T213040Z
UID:1923-1664409600-1664668799@profesoradelgadillo.com
SUMMARY:FFLA
DESCRIPTION:
URL:https://profesoradelgadillo.com/event/ffla/
ATTACH;FMTTYPE=image/png:https://profesoradelgadillo.com/wp-content/uploads/2022/05/Untitled-design-65.png
END:VEVENT
BEGIN:VEVENT
DTSTART;VALUE=DATE:20220711
DTEND;VALUE=DATE:20220716
DTSTAMP:20260423T073533
CREATED:20220504T200922Z
LAST-MODIFIED:20220504T200922Z
UID:1917-1657497600-1657929599@profesoradelgadillo.com
SUMMARY:IFLT Conference
DESCRIPTION:In-person presenter
URL:https://profesoradelgadillo.com/event/iflt-conference/
ATTACH;FMTTYPE=image/png:https://profesoradelgadillo.com/wp-content/uploads/2022/05/FM-Logo-on-White-mobile-e1616430401219.png
END:VEVENT
BEGIN:VEVENT
DTSTART;VALUE=DATE:20220709
DTEND;VALUE=DATE:20220713
DTSTAMP:20260423T073533
CREATED:20220504T200708Z
LAST-MODIFIED:20220504T200708Z
UID:1914-1657324800-1657670399@profesoradelgadillo.com
SUMMARY:AATSP
DESCRIPTION:Attending
URL:https://profesoradelgadillo.com/event/aatsp/
ATTACH;FMTTYPE=image/png:https://profesoradelgadillo.com/wp-content/uploads/2022/05/logo.png
END:VEVENT
BEGIN:VEVENT
DTSTART;VALUE=DATE:20220705
DTEND;VALUE=DATE:20220710
DTSTAMP:20260423T073533
CREATED:20220504T195855Z
LAST-MODIFIED:20220504T214210Z
UID:1908-1656979200-1657411199@profesoradelgadillo.com
SUMMARY:Conference In The Cloud
DESCRIPTION:Presenter. Virtual Conference.
URL:https://profesoradelgadillo.com/event/conference-in-the-cloud/
ATTACH;FMTTYPE=image/png:https://profesoradelgadillo.com/wp-content/uploads/2022/05/convert.png
END:VEVENT
BEGIN:VEVENT
DTSTART;VALUE=DATE:20220627
DTEND;VALUE=DATE:20220702
DTSTAMP:20260423T073533
CREATED:20220504T201123Z
LAST-MODIFIED:20220504T214336Z
UID:1920-1656288000-1656719999@profesoradelgadillo.com
SUMMARY:CI Reboot
DESCRIPTION:Virtual. Presenting.
URL:https://profesoradelgadillo.com/event/ci-reboot/
ATTACH;FMTTYPE=image/png:https://profesoradelgadillo.com/wp-content/uploads/2022/05/Screen-Shot-2022-05-04-at-4.10.36-PM.png
END:VEVENT
BEGIN:VEVENT
DTSTART;VALUE=DATE:20210109
DTEND;VALUE=DATE:20210112
DTSTAMP:20260423T073533
CREATED:20210110T005328Z
LAST-MODIFIED:20210110T010713Z
UID:650-1610150400-1610409599@profesoradelgadillo.com
SUMMARY:Practical & Comprehensible Conference
DESCRIPTION:Ready for some PD in PJs? Join La Libre and Friends for this FREE virtual conference! I hope to see you there! \nMy presentation will take place on Friday\, January 8th and it is entitled AUTHENTICALLY ENGAGE WITH SUCCESS IN CURRENT TIMES \nGet your FREE ticket here. The sessions will be available to watch for 24 hours from the date they are released. Need more time to digest everything? Then\, get the ALL ACCESS PASS so you can access the presentations for as long as you need to.
URL:https://profesoradelgadillo.com/event/practical-comprehensible/
CATEGORIES:professional development
ATTACH;FMTTYPE=image/png:https://profesoradelgadillo.com/wp-content/uploads/2021/01/logo-virtual-summit-practical-and-comprehensible-NO-BG.png
END:VEVENT
END:VCALENDAR