BEGIN:VCALENDAR
VERSION:2.0
PRODID:-//Profesora Delgadillo - ECPv6.15.20//NONSGML v1.0//EN
CALSCALE:GREGORIAN
METHOD:PUBLISH
X-WR-CALNAME:Profesora Delgadillo
X-ORIGINAL-URL:https://profesoradelgadillo.com
X-WR-CALDESC:Events for Profesora Delgadillo
REFRESH-INTERVAL;VALUE=DURATION:PT1H
X-Robots-Tag:noindex
X-PUBLISHED-TTL:PT1H
BEGIN:VTIMEZONE
TZID:UTC
BEGIN:STANDARD
TZOFFSETFROM:+0000
TZOFFSETTO:+0000
TZNAME:UTC
DTSTART:20200101T000000
END:STANDARD
END:VTIMEZONE
BEGIN:VEVENT
DTSTART;VALUE=DATE:20210109
DTEND;VALUE=DATE:20210112
DTSTAMP:20260423T114529
CREATED:20210110T005328Z
LAST-MODIFIED:20210110T010713Z
UID:650-1610150400-1610409599@profesoradelgadillo.com
SUMMARY:Practical & Comprehensible Conference
DESCRIPTION:Ready for some PD in PJs? Join La Libre and Friends for this FREE virtual conference! I hope to see you there! \nMy presentation will take place on Friday\, January 8th and it is entitled AUTHENTICALLY ENGAGE WITH SUCCESS IN CURRENT TIMES \nGet your FREE ticket here. The sessions will be available to watch for 24 hours from the date they are released. Need more time to digest everything? Then\, get the ALL ACCESS PASS so you can access the presentations for as long as you need to.
URL:https://profesoradelgadillo.com/event/practical-comprehensible/
CATEGORIES:professional development
ATTACH;FMTTYPE=image/png:https://profesoradelgadillo.com/wp-content/uploads/2021/01/logo-virtual-summit-practical-and-comprehensible-NO-BG.png
END:VEVENT
END:VCALENDAR